BEGIN:VCALENDAR
VERSION:2.0
PRODID:-//JCSU 100 CLUB - ECPv6.15.16//NONSGML v1.0//EN
CALSCALE:GREGORIAN
METHOD:PUBLISH
X-ORIGINAL-URL:https://jcsu100club.com
X-WR-CALDESC:Events for JCSU 100 CLUB
REFRESH-INTERVAL;VALUE=DURATION:PT1H
X-Robots-Tag:noindex
X-PUBLISHED-TTL:PT1H
BEGIN:VTIMEZONE
TZID:UTC
BEGIN:STANDARD
TZOFFSETFROM:+0000
TZOFFSETTO:+0000
TZNAME:UTC
DTSTART:20250101T000000
END:STANDARD
END:VTIMEZONE
BEGIN:VEVENT
DTSTART;TZID=UTC:20260321T110000
DTEND;TZID=UTC:20260321T123000
DTSTAMP:20260422T092807
CREATED:20260129T180800Z
LAST-MODIFIED:20260214T141413Z
UID:3272-1774090800-1774096200@jcsu100club.com
SUMMARY:Adopt-A-Street: Keep Charlotte Beautiful
DESCRIPTION:Adopt-A-Street: Keep Charlotte Beautiful
URL:https://jcsu100club.com/event/adopt-a-street-keep-charlotte-beautiful-2/
LOCATION:Biddleville Park – JCSU Softball Field\, Biddleville Park – JCSU Softball Field
END:VEVENT
BEGIN:VEVENT
DTSTART;TZID=UTC:20260401T110000
DTEND;TZID=UTC:20260401T123000
DTSTAMP:20260422T092807
CREATED:20251016T173631Z
LAST-MODIFIED:20260214T141412Z
UID:3135-1775041200-1775046600@jcsu100club.com
SUMMARY:Keep Charlotte Beautiful
DESCRIPTION:
URL:https://jcsu100club.com/event/keep-charlotte-beautiful-4/
LOCATION:Biddleville Park – JCSU Softball Field\, Biddleville Park – JCSU Softball Field
END:VEVENT
BEGIN:VEVENT
DTSTART;TZID=UTC:20260406T183000
DTEND;TZID=UTC:20260406T200000
DTSTAMP:20260422T092807
CREATED:20260129T180031Z
LAST-MODIFIED:20260214T141412Z
UID:3253-1775500200-1775505600@jcsu100club.com
SUMMARY:100 Club Executive Board Meeting
DESCRIPTION:100 Club Executive Board Meeting
URL:https://jcsu100club.com/event/100-club-executive-board-meeting-9/
LOCATION:Zoom
END:VEVENT
BEGIN:VEVENT
DTSTART;TZID=UTC:20260416T183000
DTEND;TZID=UTC:20260416T200000
DTSTAMP:20260422T092807
CREATED:20260129T180123Z
LAST-MODIFIED:20260214T141412Z
UID:3255-1776364200-1776369600@jcsu100club.com
SUMMARY:100 Club General Meeting
DESCRIPTION:100 Club General Meeting
URL:https://jcsu100club.com/event/100-club-general-meeting-7/
LOCATION:Zoom
END:VEVENT
BEGIN:VEVENT
DTSTART;TZID=UTC:20260425T180000
DTEND;TZID=UTC:20260425T193000
DTSTAMP:20260422T092807
CREATED:20260129T180459Z
LAST-MODIFIED:20260214T141412Z
UID:3263-1777140000-1777145400@jcsu100club.com
SUMMARY:Arch of Triumph Gala
DESCRIPTION:Arch of Triumph Gala
URL:https://jcsu100club.com/event/arch-of-triumph-gala/
LOCATION:Charlotte Convention Center – 501 S. College St.\, Charlotte\, NC 28202\, United States
END:VEVENT
BEGIN:VEVENT
DTSTART;TZID=UTC:20260504T183000
DTEND;TZID=UTC:20260504T200000
DTSTAMP:20260422T092807
CREATED:20260129T180320Z
LAST-MODIFIED:20260214T141412Z
UID:3259-1777919400-1777924800@jcsu100club.com
SUMMARY:100 Club Executive Board Meeting
DESCRIPTION:100 Club Executive Board Meeting
URL:https://jcsu100club.com/event/100-club-executive-board-meeting-10/
LOCATION:Zoom
END:VEVENT
BEGIN:VEVENT
DTSTART;TZID=UTC:20260521T183000
DTEND;TZID=UTC:20260521T200000
DTSTAMP:20260422T092807
CREATED:20260129T175409Z
LAST-MODIFIED:20260214T141412Z
UID:3234-1779388200-1779393600@jcsu100club.com
SUMMARY:100 Club General Meeting
DESCRIPTION:100 Club General Meeting
URL:https://jcsu100club.com/event/100-club-general-meeting-6/
LOCATION:Zoom
END:VEVENT
BEGIN:VEVENT
DTSTART;TZID=UTC:20260601T183000
DTEND;TZID=UTC:20260601T200000
DTSTAMP:20260422T092807
CREATED:20260129T180549Z
LAST-MODIFIED:20260214T141412Z
UID:3266-1780338600-1780344000@jcsu100club.com
SUMMARY:100 Club Executive Board Meeting
DESCRIPTION:100 Club Executive Board Meeting
URL:https://jcsu100club.com/event/100-club-executive-board-meeting-11/
LOCATION:Zoom
END:VEVENT
BEGIN:VEVENT
DTSTART;TZID=UTC:20260613T110000
DTEND;TZID=UTC:20260613T123000
DTSTAMP:20260422T092807
CREATED:20260129T180213Z
LAST-MODIFIED:20260214T141412Z
UID:3257-1781348400-1781353800@jcsu100club.com
SUMMARY:Adopt-A-Street: Keep Charlotte Beautiful
DESCRIPTION:Adopt-A-Street: Keep Charlotte Beautiful
URL:https://jcsu100club.com/event/adopt-a-street-keep-charlotte-beautiful/
LOCATION:Biddleville Park – JCSU Softball Field\, Biddleville Park – JCSU Softball Field
END:VEVENT
BEGIN:VEVENT
DTSTART;TZID=UTC:20260618T183000
DTEND;TZID=UTC:20260618T200000
DTSTAMP:20260422T092807
CREATED:20260129T172609Z
LAST-MODIFIED:20260214T141412Z
UID:3189-1781807400-1781812800@jcsu100club.com
SUMMARY:100 Club General Meeting
DESCRIPTION:100 Club General Meeting
URL:https://jcsu100club.com/event/100-club-general-meeting-5/
LOCATION:Zoom
END:VEVENT
BEGIN:VEVENT
DTSTART;TZID=UTC:20260630T130000
DTEND;TZID=UTC:20260630T140000
DTSTAMP:20260422T092807
CREATED:20260129T180906Z
LAST-MODIFIED:20260219T125803Z
UID:3276-1782824400-1782828000@jcsu100club.com
SUMMARY:100 Club Fiscal Year Ends 2025 - 2026
DESCRIPTION:100 Club Fiscal Year Ends 2025 – 2026
URL:https://jcsu100club.com/event/100-club-fiscal-year-ends-2025-2026/
END:VEVENT
BEGIN:VEVENT
DTSTART;TZID=UTC:20260701T130000
DTEND;TZID=UTC:20260701T140000
DTSTAMP:20260422T092807
CREATED:20260129T180932Z
LAST-MODIFIED:20260219T130159Z
UID:3278-1782910800-1782914400@jcsu100club.com
SUMMARY:100 Club Fiscal Year Begins 2026 - 2027
DESCRIPTION:100 Club Fiscal Year Begins 2026 – 2027
URL:https://jcsu100club.com/event/100-club-fiscal-year-begins-2026-2027/
END:VEVENT
BEGIN:VEVENT
DTSTART;TZID=UTC:20260829T163000
DTEND;TZID=UTC:20260829T183000
DTSTAMP:20260422T092807
CREATED:20260422T043822Z
LAST-MODIFIED:20260422T043822Z
UID:3323-1788021000-1788028200@jcsu100club.com
SUMMARY:JCSU Football at Benedict College (Away) BUS TRIP $50
DESCRIPTION:JCSU Football at Benedict College (Away) BUS TRIP $50
URL:https://jcsu100club.com/event/jcsu-football-at-benedict-college-away-bus-trip-50/
LOCATION:Columbia\, SC / Charlie W. Johnson Stadium
END:VEVENT
BEGIN:VEVENT
DTSTART;TZID=UTC:20260912T130000
DTEND;TZID=UTC:20260912T153000
DTSTAMP:20260422T092807
CREATED:20260422T043924Z
LAST-MODIFIED:20260422T044202Z
UID:3327-1789218000-1789227000@jcsu100club.com
SUMMARY:JCSU Football at WSSU (Away) BUS TRIP $50
DESCRIPTION:JCSU Football at WSSU (Away) BUS TRIP $50
URL:https://jcsu100club.com/event/jcsu-football-at-wssu-away-bus-trip-50/
LOCATION:Winston Salem\, NC / Bowman Gray Stadium\, Winston Salem\, NC / Bowman Gray Stadium\, United States
END:VEVENT
END:VCALENDAR